BEGIN:VCALENDAR
VERSION:2.0
PRODID:-//ChamberMaster//Event Calendar 2.0//EN
METHOD:PUBLISH
X-PUBLISHED-TTL:P3D
REFRESH-INTERVAL:P3D
CALSCALE:GREGORIAN
BEGIN:VEVENT
DTSTART:20201027T130000Z
DTEND:20201027T160000Z
X-MICROSOFT-CDO-ALLDAYEVENT:FALSE
SUMMARY:Area Clergy Meeting - Central AM
DESCRIPTION:Area Clergy Meeting\n\nPlease enter your home church name under "company" when filling out the online registration form.  Thanks!\n\nMeet and greet begins at 9:00 a.m.  Meeting starts at 9:30 a.m. with district and denomination updates.  Continuing education training begins at 10:00 a.m.  .2 CEU Credits\n\nLight refreshments will be served.
X-ALT-DESC;FMTTYPE=text/html:Area Clergy Meeting<br />\n<span style="color: rgb(51\, 51\, 51)\; font-family: sans-serif\, Arial\, Verdana\, 'Trebuchet MS'\; font-size: 13px\; line-height: 20.8px\; background-color: rgb(255\, 255\, 255)\;">Please enter your home church name under &quot\;company&quot\; when filling out the online&nbsp\;registration form. &nbsp\;Thanks!<br />\nMeet and greet begins at 9:00 a.m.&nbsp\; Meeting starts at 9:30 a.m. with district and denomination updates.&nbsp\; Continuing education training begins at 10:00 a.m.&nbsp\; .2 CEU Credits<br />\nLight refreshments will be served.</span>
LOCATION:Central Area Black River Church of the Brethren\, 10322 Old Mill Road\, Spencer\, OH 44275\, 330-667-6022
UID:e.9233.1425
SEQUENCE:3
DTSTAMP:20260426T035210Z
URL:http://nodcb.memberzone.com/events/details/area-clergy-meeting-central-am-1425
END:VEVENT

END:VCALENDAR
