BEGIN:VCALENDAR
VERSION:2.0
PRODID:-//ChamberMaster//Event Calendar 2.0//EN
METHOD:PUBLISH
X-PUBLISHED-TTL:P3D
REFRESH-INTERVAL:P3D
CALSCALE:GREGORIAN
BEGIN:VEVENT
DTSTART:20201028T220000Z
DTEND:20201029T010000Z
X-MICROSOFT-CDO-ALLDAYEVENT:FALSE
SUMMARY:Area Clergy Meeting - Eastern PM
DESCRIPTION:Area Clergy Meeting\n\nPlease enter your home church name under "company" when filling out the online registration form.  Thanks!\n\nMeet and greet begins at 6:00 p.m.  Meeting starts at 6:30 p.m. with district and denomination updates.  Continuing education training begins at 7:00 p.m.  .2 CEU Credits\n\nLight refreshments will be served.
X-ALT-DESC;FMTTYPE=text/html:Area Clergy Meeting<br />\n<span style="color: rgb(51\, 51\, 51)\; font-family: sans-serif\, Arial\, Verdana\, 'Trebuchet MS'\; font-size: 13px\; line-height: 20.8px\; background-color: rgb(255\, 255\, 255)\;">Please enter your home church name under &quot\;company&quot\; when filling out the online&nbsp\;registration form. &nbsp\;Thanks!<br />\nMeet and greet begins at 6:00 p.m.&nbsp\; Meeting starts at 6:30 p.m. with district and denomination updates.&nbsp\; Continuing education training begins at 7:00 p.m.&nbsp\; .2 CEU Credits<br />\nLight refreshments will be served.</span><br />\n&nbsp\;
LOCATION:Eastern Area Mount Pleasant Church of the Brethren\, 4152 Mount Pleasant Street NW\, North Canton\, Ohio 44720 (330) 499-5131
UID:e.9233.1428
SEQUENCE:3
DTSTAMP:20260426T034921Z
URL:http://nodcb.memberzone.com/events/details/area-clergy-meeting-eastern-pm-1428
END:VEVENT

END:VCALENDAR
