BEGIN:VCALENDAR
VERSION:2.0
PRODID:-//ChamberMaster//Event Calendar 2.0//EN
METHOD:PUBLISH
X-PUBLISHED-TTL:P3D
REFRESH-INTERVAL:P3D
CALSCALE:GREGORIAN
BEGIN:VEVENT
DTSTART;VALUE=DATE:20210101
DTEND;VALUE=DATE:20210102
TRANSP:TRANSPARENT
X-MICROSOFT-CDO-ALLDAYEVENT:TRUE
SUMMARY:Buckeye Brethren Institute Application
DESCRIPTION:Buckeye Brethren Institute\n\nStudent Application Form & Payment\n\n Click Here for Summary and Application Form\n\nAttention Students: You must fill out and sign an application form and mail it to the District Office. Online registration reserves your place in class and the option to pay by credit card. You may also select to pay for upcoming courses\, but it is not required. A second option to "pay by check" is available during "check out". If you are paying by check\, please make checks payable to "Northern Ohio District Church of the Brethren" and mail to 1107 East Main Street\, Ashland\, OH 44805\, along with your application. Thank you!
X-ALT-DESC;FMTTYPE=text/html:Buckeye Brethren Institute<br />\nStudent Application Form &amp\; Payment<br />\n<a href="https://chambermaster.blob.core.windows.net/userfiles/UserFiles/chambers/9233/File/BBIIntroductionandApplication2018_fillable.pdf">&#8203\;Click Here for Summary and Application Form</a><br />\nAttention Students:&nbsp\;<span font-size:="" trebuchet="">You must fill out and sign an&nbsp\;</span><a href="https://chambermaster.blob.core.windows.net/userfiles/UserFiles/chambers/9233/File/BBIIntroductionandApplication2018_fillable.pdf">application form</a> <span font-size:="" trebuchet="">and mail it to the District Office.</span>&nbsp\;Online registration reserves your place in class and the option to pay by credit card. You may also select to&nbsp\;pay for upcoming courses\, but it is not required. A second option to &quot\;pay by check&quot\; is available during &quot\;check out&quot\;.&nbsp\;If you are paying by check\, please make checks payable to &quot\;Northern Ohio District Church of the Brethren&quot\; and mail to 1107 East Main Street\, Ashland\, OH 44805\, along with your application. Thank you!<br />\n&nbsp\;
LOCATION:
UID:e.9233.1199
SEQUENCE:3
DTSTAMP:20260425T221634Z
URL:http://nodcb.memberzone.com/events/details/buckeye-brethren-institute-application-08-05-2017-1199
END:VEVENT

END:VCALENDAR
