BEGIN:VCALENDAR
VERSION:2.0
PRODID:-//ChamberMaster//Event Calendar 2.0//EN
METHOD:PUBLISH
X-PUBLISHED-TTL:P3D
REFRESH-INTERVAL:P3D
CALSCALE:GREGORIAN
BEGIN:VEVENT
DTSTART:20230520T133000Z
DTEND:20230520T133000Z
X-MICROSOFT-CDO-ALLDAYEVENT:FALSE
SUMMARY:Buckeye Brethren Institute - Church Leadership and Administration
DESCRIPTION:Buckeye Brethren Institute\n\nChurch Leadership and Administration (MS)\n\nInstructor:  Paul Bozman\n\nApril 15\, April 29\, May 20\; 9:30 a.m. to 3:30 p.m.
X-ALT-DESC;FMTTYPE=text/html:Buckeye Brethren Institute<br />\nChurch Leadership and Administration (MS)<br />\nInstructor: &nbsp\;Paul Bozman<br />\nApril 15\, April 29\, May 20\; 9:30 a.m. to 3:30 p.m.<br />\n&nbsp\;
LOCATION:District Office\, 1107 East Main Street\, Ashland\, OH 44805 419-281-3058 Or join remotely via Zoom.
UID:e.9233.1654
SEQUENCE:3
DTSTAMP:20260423T145001Z
URL:http://nodcb.memberzone.com/events/details/buckeye-brethren-institute-church-leadership-and-administration-05-20-2023-1654
END:VEVENT

END:VCALENDAR
