BEGIN:VCALENDAR
VERSION:2.0
PRODID:-//ChamberMaster//Event Calendar 2.0//EN
METHOD:PUBLISH
X-PUBLISHED-TTL:P3D
REFRESH-INTERVAL:P3D
CALSCALE:GREGORIAN
BEGIN:VEVENT
DTSTART:20220129T143000Z
DTEND:20220129T203000Z
X-MICROSOFT-CDO-ALLDAYEVENT:FALSE
SUMMARY:Buckeye Brethren Institute - Evangelism/Outreach (MS)
DESCRIPTION:Buckeye Brethren Institute\n\nEvangelism/Outreach (MS)\n\nInstructor:  Brad Kelley\n\nJanuary 29\, February 12 and March 12\, 2022\; 9:30 a.m. to 3:30 p.m.\n\nClasses will be held in person at the Northern Ohio District Office.\n\nThis introductory level BBI course on Biblical and yet practical approach to Evangelism is rooted in our Lord's Great Commission and Gospel message. Our course will seek to introduce\, aid and expand the student's understanding\, skills and practice of Christian Evangelism at both the personal and corporate church community levels. \nClass Flyer\n\nCourse Syllabus
X-ALT-DESC;FMTTYPE=text/html:Buckeye Brethren Institute<br />\nEvangelism/Outreach (MS)<br />\nInstructor:&nbsp\; Brad Kelley<br />\nJanuary 29\, February 12 and March 12\, 2022\; 9:30 a.m. to 3:30 p.m.<br />\nClasses will be held in person at the Northern Ohio District Office.<br />\nThis introductory level BBI course on Biblical and yet practical approach to Evangelism is rooted in our Lord&#39\;s Great Commission and Gospel message. Our course will seek to introduce\, aid and expand the student&#39\;s understanding\, skills and practice of Christian Evangelism at both the personal and corporate church community levels.&nbsp\;\n<p style="box-sizing: border-box\; margin: 0px 0px 1.125rem\; padding: 0px\; font-family: Lato\, sans-serif\; font-size: 1.0625rem\; line-height: 1.25rem\; text-rendering: optimizeLegibility\; background-color: rgb(255\, 255\, 255)\;"><a href="https://chambermaster.blob.core.windows.net/userfiles/UserFiles/chambers/9233/File/Evangelism2022.pdf">Class Flyer</a><br />\n<a href="https://chambermaster.blob.core.windows.net/userfiles/UserFiles/chambers/9233/File/New2022BBIEvangelismCourseSyllabusandAssignments.pdf">Course Syllabus</a></p>\n
LOCATION:District Office\, 1107 East Main Street\, Ashland\, OH 44805 419-281-3058
UID:e.9233.1478
SEQUENCE:3
DTSTAMP:20260424T185622Z
URL:http://nodcb.memberzone.com/events/details/buckeye-brethren-institute-evangelism-outreach-ms-1478
END:VEVENT

END:VCALENDAR
