BEGIN:VCALENDAR
VERSION:2.0
PRODID:-//ChamberMaster//Event Calendar 2.0//EN
METHOD:PUBLISH
X-PUBLISHED-TTL:P3D
REFRESH-INTERVAL:P3D
CALSCALE:GREGORIAN
BEGIN:VEVENT
DTSTART:20201107T143000Z
DTEND:20201107T203000Z
X-MICROSOFT-CDO-ALLDAYEVENT:FALSE
SUMMARY:Buckeye Brethren Institute - History\, Beliefs\, and Practices of the Church of the Brethren
DESCRIPTION:Buckeye Brethren Institute\n\nHistory\, Beliefs\, and Practices of the Church of the Brethren (H/T)\n\nClick here for flyer.\n\nInstructor:  Paul Bozman\n\nOctober 24\, November 7 and November 21\; 9:30 a.m. to 3:30 p.m.\n\nNovember 28 Makeup date
X-ALT-DESC;FMTTYPE=text/html:Buckeye Brethren Institute<br />\n<strong>History\, Beliefs\, and Practices of the Church of the Brethren (H/T)</strong><br />\nClick here for&nbsp\;<a href="https://chambermaster.blob.core.windows.net/userfiles/UserFiles/chambers/9233/File/HistoryBeliefsandPracticeinCOB2020.pdf">flyer</a>.<br />\nInstructor: &nbsp\;Paul Bozman<br />\nOctober 24\, November 7 and November 21\; 9:30 a.m. to 3:30 p.m.<br />\nNovember 28 Makeup date
LOCATION:District Office\, 1107 East Main Street\, Ashland\, OH 44805 419-281-3058
UID:e.9233.1398
SEQUENCE:3
DTSTAMP:20260426T015226Z
URL:http://nodcb.memberzone.com/events/details/buckeye-brethren-institute-history-beliefs-and-practices-of-the-church-of-the-brethren-1398
END:VEVENT

END:VCALENDAR
