BEGIN:VCALENDAR
VERSION:2.0
PRODID:-//ChamberMaster//Event Calendar 2.0//EN
METHOD:PUBLISH
X-PUBLISHED-TTL:P3D
REFRESH-INTERVAL:P3D
CALSCALE:GREGORIAN
BEGIN:VEVENT
DTSTART:20230211T143000Z
DTEND:20230211T203000Z
X-MICROSOFT-CDO-ALLDAYEVENT:FALSE
SUMMARY:Buckeye Brethren Institute - History of Christianity
DESCRIPTION:Buckeye Brethren Institute\n\nHistory of Christianity (H/T)\n\nInstructor:  Brad Kelley\n\nFebruary 11\, March 4\, March 25 from  9:30 a.m. to 3:30 p.m.\n\n\n\nThis course will provide an overview of the History of the Christian faith from Pentecost through the modern day.
X-ALT-DESC;FMTTYPE=text/html:<h3><span style="font-size:20px\;">Buckeye Brethren Institute<br />\nHistory of Christianity (H/T)<br />\nInstructor: &nbsp\;Brad Kelley<br />\nFebruary 11\, March 4\, March 25 from&nbsp\; 9:30 a.m. to 3:30 p.m.<br />\n<br />\nThis course will provide an overview of the History of the Christian faith from Pentecost through the modern day.&nbsp\;&nbsp\;</span></h3>\n
LOCATION:Northern Ohio District Office 1107 East Main Street Ashland\, OH 44805 Or join by Zoom (audio and video)
UID:e.9233.1650
SEQUENCE:3
DTSTAMP:20260423T212025Z
URL:http://nodcb.memberzone.com/events/details/buckeye-brethren-institute-history-of-christianity-1650
END:VEVENT

END:VCALENDAR
