BEGIN:VCALENDAR
VERSION:2.0
PRODID:-//ChamberMaster//Event Calendar 2.0//EN
METHOD:PUBLISH
X-PUBLISHED-TTL:P3D
REFRESH-INTERVAL:P3D
CALSCALE:GREGORIAN
BEGIN:VEVENT
DTSTART:20210501T133000Z
DTEND:20210501T193000Z
X-MICROSOFT-CDO-ALLDAYEVENT:FALSE
SUMMARY:Buckeye Brethren Institute - Introduction to Pastoral Care
DESCRIPTION:Buckeye Brethren Institute\n\nIntroduction to Pastoral Care (MS)\n\nInstructor:  Tina Hunt\n\nApril 17\, 2021\, May 1\, 2021\, May 22\, 2021\, 9:30 a.m. to 3:30 p.m.
X-ALT-DESC;FMTTYPE=text/html:Buckeye Brethren Institute<br />\nIntroduction to Pastoral Care (MS)<br />\nInstructor: &nbsp\;Tina Hunt<br />\nApril 17\, 2021\, May 1\, 2021\, May 22\, 2021\, 9:30 a.m. to 3:30 p.m.
LOCATION:Via Zoom Video
UID:e.9233.1443
SEQUENCE:3
DTSTAMP:20260425T125432Z
URL:http://nodcb.memberzone.com/events/details/buckeye-brethren-institute-introduction-to-pastoral-care-1443
END:VEVENT

END:VCALENDAR
