BEGIN:VCALENDAR
VERSION:2.0
PRODID:-//ChamberMaster//Event Calendar 2.0//EN
METHOD:PUBLISH
X-PUBLISHED-TTL:P3D
REFRESH-INTERVAL:P3D
CALSCALE:GREGORIAN
BEGIN:VEVENT
DTSTART:20220507T133000Z
DTEND:20220507T193000Z
X-MICROSOFT-CDO-ALLDAYEVENT:FALSE
SUMMARY:Buckeye Brethren Institute - Introduction to Theology
DESCRIPTION:Buckeye Brethren Institute\n\nIntroduction to Theology (H/T)\n\nInstructor:  Paul Bozman\n\nApril 2 and 23\, and May 7\, 2022\; 9:30 a.m. to 3:30 p.m.\n\nClick here for flyer .\n\nClick here for syllabus.
X-ALT-DESC;FMTTYPE=text/html:Buckeye Brethren Institute<br />\nIntroduction to Theology (H/T)<br />\nInstructor: &nbsp\;Paul Bozman<br />\nApril 2 and 23\, and May 7\, 2022\; 9:30 a.m. to 3:30 p.m.<br />\n<a href="https://chambermaster.blob.core.windows.net/userfiles/UserFiles/chambers/9233/File/IntroductiontoTheology2022.pdf">Click here for flyer</a>&nbsp\;.<br />\n<a href="https://chambermaster.blob.core.windows.net/userfiles/UserFiles/chambers/9233/File/Theology2022.pdf">Click here for syllabus</a>.
LOCATION:District Office\, 1107 East Main Street\, Ashland\, OH 44805 419-281-3058
UID:e.9233.1484
SEQUENCE:3
DTSTAMP:20260424T144057Z
URL:http://nodcb.memberzone.com/events/details/buckeye-brethren-institute-introduction-to-theology-1484
END:VEVENT

END:VCALENDAR
