BEGIN:VCALENDAR
VERSION:2.0
PRODID:-//ChamberMaster//Event Calendar 2.0//EN
METHOD:PUBLISH
X-PUBLISHED-TTL:P3D
REFRESH-INTERVAL:P3D
CALSCALE:GREGORIAN
BEGIN:VEVENT
DTSTART:20220910T133000Z
DTEND:20220910T193000Z
X-MICROSOFT-CDO-ALLDAYEVENT:FALSE
SUMMARY:Buckeye Brethren Institute - New Testament Survey
DESCRIPTION:Buckeye Brethren Institute\n\nNew Testament Survey (B)\n\nInstructor:  Tina Hunt\n\nAugust 27\, September 10\, October 1\, 2022\; 9:30 a.m. to 3:30 p.m.\n\n\n\nCourse Description:  Provide an overview of the genre and development of the New Testament and its impact on the believer's spiritual development and the life and preaching ministry of the pastor/ministry leader in the Church of the Brethren.
X-ALT-DESC;FMTTYPE=text/html:Buckeye Brethren Institute<br />\nNew Testament Survey (B)<br />\nInstructor: &nbsp\;Tina Hunt<br />\nAugust 27\, September 10\, October 1\, 2022\; 9:30 a.m. to 3:30 p.m.<br />\n<br />\nCourse Description:&nbsp\;&nbsp\;Provide an overview of the genre and development of the New Testament and its impact on the believer&rsquo\;s spiritual development and the life and preaching ministry of the pastor/ministry leader in the Church of the Brethren.
LOCATION:District Office\, 1107 East Main Street\, Ashland\, OH 44805 419-281-3058
UID:e.9233.1631
SEQUENCE:3
DTSTAMP:20260424T042828Z
URL:http://nodcb.memberzone.com/events/details/buckeye-brethren-institute-new-testament-survey-1631
END:VEVENT

END:VCALENDAR
