BEGIN:VCALENDAR
VERSION:2.0
PRODID:-//ChamberMaster//Event Calendar 2.0//EN
METHOD:PUBLISH
X-PUBLISHED-TTL:P3D
REFRESH-INTERVAL:P3D
CALSCALE:GREGORIAN
BEGIN:VEVENT
DTSTART:20251205T143000Z
DTEND:20251205T203000Z
X-MICROSOFT-CDO-ALLDAYEVENT:FALSE
SUMMARY:Buckeye Brethren Institute - New Testament Survey
DESCRIPTION:Buckeye Brethren Institute\n\nNew Testament Survey (B)\n\nInstructor:  Cindy Peel\n\nNovember 7\, 21\, and December 5\, 2025\; 9:30 a.m. to 3:30 p.m.\n\n\n\nCourse Description: To develop an overview of the background\, structure and purpose of the books of the New Testament with the goal of applying its concepts to the practical tasks of pastoral ministry in the Church of the Brethren\,
X-ALT-DESC;FMTTYPE=text/html:Buckeye Brethren Institute<br />\nNew Testament Survey (B)<br />\nInstructor:&nbsp\; Cindy Peel<br />\nNovember 7\, 21\, and December 5\, 2025\; 9:30 a.m. to 3:30 p.m.<br />\n<br />\nCourse Description: To develop an overview of the background\, structure and purpose of the books of the New Testament with the goal of applying its concepts to the practical tasks of pastoral ministry in the Church of the Brethren\,
LOCATION:District Office\, 1107 East Main Street\, Ashland\, OH 44805 419-281-3058
UID:e.9233.1707
SEQUENCE:3
DTSTAMP:20260420T210852Z
URL:http://nodcb.memberzone.com/events/details/buckeye-brethren-institute-new-testament-survey-1707
END:VEVENT

END:VCALENDAR
