BEGIN:VCALENDAR
VERSION:2.0
PRODID:-//ChamberMaster//Event Calendar 2.0//EN
METHOD:PUBLISH
X-PUBLISHED-TTL:P3D
REFRESH-INTERVAL:P3D
CALSCALE:GREGORIAN
BEGIN:VEVENT
DTSTART:20250912T133000Z
DTEND:20250912T193000Z
X-MICROSOFT-CDO-ALLDAYEVENT:FALSE
SUMMARY:Buckeye Brethren Institute - Preaching
DESCRIPTION:Buckeye Brethren Institute\n\nPreaching (MS)\n\nInstructor:  Tina Hunt\n\nThis course will discuss the differing ways in which sermons are prepared and presented within a Sunday morning worship setting. It will also give the student an opportunity to preach and evaluate sermons with peer feedback. \n\nSeptember 12\, 26\, and October 10\, 2025\; 9:30 a.m. to 3:30 p.m.\n\nClick here for Flyer\n\nClick here for Syllabus
X-ALT-DESC;FMTTYPE=text/html:Buckeye Brethren Institute<br />\nPreaching (MS)<br />\nInstructor: &nbsp\;Tina Hunt<br />\nThis course will discuss the differing ways in which sermons are prepared and presented within a Sunday morning worship setting. It will also give the student an opportunity to preach and evaluate sermons with peer feedback.&nbsp\;<br />\nSeptember 12\, 26\, and October 10\, 2025\;&nbsp\;9:30 a.m. to 3:30 p.m.<br />\n<a href="https://chambermaster.blob.core.windows.net/userfiles/UserFiles/chambers/9233/File/BBI/Preaching20251.pdf">Click here for Flyer</a><br />\n<a href="https://chambermaster.blob.core.windows.net/userfiles/UserFiles/chambers/9233/File/BBI/BBIIntroductiontoTheology2025syllabus.pdf">Click here for Syllabus</a>
LOCATION:District Office\, 1107 East Main Street\, Ashland\, OH 44805 419-281-3058
UID:e.9233.1698
SEQUENCE:3
DTSTAMP:20260421T022714Z
URL:http://nodcb.memberzone.com/events/details/buckeye-brethren-institute-preaching-1698
END:VEVENT

END:VCALENDAR
