BEGIN:VCALENDAR
VERSION:2.0
PRODID:-//ChamberMaster//Event Calendar 2.0//EN
METHOD:PUBLISH
X-PUBLISHED-TTL:P3D
REFRESH-INTERVAL:P3D
CALSCALE:GREGORIAN
BEGIN:VEVENT
DTSTART:20230929T133000Z
DTEND:20230929T193000Z
X-MICROSOFT-CDO-ALLDAYEVENT:FALSE
SUMMARY:Buckeye Brethren Institute -Teaching and Learning in the Church
DESCRIPTION:Buckeye Brethren Institute\n\nTeaching and Learning in the Church (MS)\n\nInstructor:  Tina Hunt\n\nSeptember 15\, September 29\, and October 6\; 9:30 a.m. to 3:30 p.m.\n\nClick here for flyer.
X-ALT-DESC;FMTTYPE=text/html:Buckeye Brethren Institute<br />\n<strong>Teaching and Learning in the Church (MS)</strong><br />\nInstructor: &nbsp\;Tina Hunt<br />\nSeptember 15\, September 29\, and October 6\; 9:30 a.m. to 3:30 p.m.<br />\n<a href="https://chambermaster.blob.core.windows.net/userfiles/UserFiles/chambers/9233/File/TeachingandLearningintheChurchBrochure_2020_fillable.pdf" style="color: rgb(7\, 130\, 193)\; font-family: sans-serif\, Arial\, Verdana\, &quot\;Trebuchet MS&quot\;\; font-size: 13px\;">Click here for flyer</a><span style="color: rgb(51\, 51\, 51)\; font-family: sans-serif\, Arial\, Verdana\, &quot\;Trebuchet MS&quot\;\; font-size: 13px\; background-color: rgb(255\, 255\, 255)\;">.</span>
LOCATION:District Office\, 1107 East Main Street\, Ashland\, OH 44805 419-281-3058 Or join by Zoom
UID:e.9233.1658
SEQUENCE:3
DTSTAMP:20260423T080917Z
URL:http://nodcb.memberzone.com/events/details/buckeye-brethren-institute-teaching-and-learning-in-the-church-1658
END:VEVENT

END:VCALENDAR
