BEGIN:VCALENDAR
VERSION:2.0
PRODID:-//ChamberMaster//Event Calendar 2.0//EN
METHOD:PUBLISH
X-PUBLISHED-TTL:P3D
REFRESH-INTERVAL:P3D
CALSCALE:GREGORIAN
BEGIN:VEVENT
DTSTART:20230510T120000Z
DTEND:20230510T130000Z
X-MICROSOFT-CDO-ALLDAYEVENT:FALSE
SUMMARY:Central Area Clergy Breakfast
DESCRIPTION:Central Area Clergy Breakfast
X-ALT-DESC;FMTTYPE=text/html:Central Area Clergy Breakfast
LOCATION:Tim Hortons - Ashland\, Ohio
UID:e.9233.1510
SEQUENCE:3
DTSTAMP:20260423T180908Z
URL:http://nodcb.memberzone.com/events/details/central-area-clergy-breakfast-05-10-2023-1510
END:VEVENT

END:VCALENDAR
