BEGIN:VCALENDAR
VERSION:2.0
PRODID:-//ChamberMaster//Event Calendar 2.0//EN
METHOD:PUBLISH
X-PUBLISHED-TTL:P3D
REFRESH-INTERVAL:P3D
CALSCALE:GREGORIAN
BEGIN:VEVENT
DTSTART:20260301T233000Z
DTEND:20260301T233000Z
X-MICROSOFT-CDO-ALLDAYEVENT:FALSE
SUMMARY:Central Area Lenten Service at Paradise CoB
DESCRIPTION:
X-ALT-DESC;FMTTYPE=text/html:
LOCATION:
UID:e.9233.1723
SEQUENCE:3
DTSTAMP:20260420T161058Z
URL:http://nodcb.memberzone.com/events/details/central-area-lenten-service-at-paradise-cob-1723
END:VEVENT

END:VCALENDAR
