BEGIN:VCALENDAR
VERSION:2.0
PRODID:-//ChamberMaster//Event Calendar 2.0//EN
METHOD:PUBLISH
X-PUBLISHED-TTL:P3D
REFRESH-INTERVAL:P3D
CALSCALE:GREGORIAN
BEGIN:VEVENT
DTSTART:20210214T210000Z
DTEND:20210216T170000Z
X-MICROSOFT-CDO-ALLDAYEVENT:FALSE
SUMMARY:Clergy-Spouse Retreat
DESCRIPTION:2021 Clergy-Spouse Retreat\n"Discerning What's Best"\n\n"And this is my prayer\, that your love may overflow more and more with knowledge and full insight to help you to determine what is best\, so that in the day of Christ you may be pure and blameless" Philippians 1:9-10 NRSV\n\n \n\nPlan on joining us for the upcoming Clergy-Spouse Retreat February 14-16 at the Quality Inn & Suites\, Richfield\, Ohio.  All ordained\, commissioned\, licensed clergy\, interims\, and spouses are invited.  This is a time to laugh\, time to learn\, time for worship\, quiet time\, social time\, and free time.  One day registration is available and 0.5 CEU's will be issued for clergy. \n\nThe Ministerial Commission will be sharing more information on the speaker\, schedule\, and menus soon. \n\nClick here for flyer.
X-ALT-DESC;FMTTYPE=text/html:<span style="font-size:18px\;">2021 Clergy-Spouse Retreat</span>\n<div><span style="font-weight:bold\;language:en-US\;"><span style="color:#976252\;"><span style="font-family:arial\;"><span style="font-size:14.0pt\;">&ldquo\;Discerning What&rsquo\;s Best&rdquo\;</span></span></span></span><br />\n<span style="font-style:italic\;font-weight:bold\;language:en-US\;"><span style="color:#976252\;"><span style="font-family:arial\;"><span style="font-size:10.5pt\;">&quot\;And this is my prayer\, that your love may overflow more and more with knowledge and full insight to help you to determine what is best\, so that in the day of Christ you may be pure and blameless&quot\;&nbsp\;Philippians 1:9-10 NRSV</span></span></span></span><br />\n&nbsp\;<br />\n<span style="language:en-US\;"><span style="font-family:calibri\;"><span style="font-size:12.0pt\;">Plan on joining us for the upcoming Clergy-Spouse Retreat February 14-16&nbsp\;at the Quality Inn &amp\; Suites\, Richfield\, Ohio. &nbsp\;All ordained\, commissioned\, licensed clergy\, interims\, and spouses are invited. &nbsp\;This is a time to laugh\, time to learn\,&nbsp\;time for worship\, quiet time\, social time\, and free time. &nbsp\;One day registration is available and 0.5 CEU&rsquo\;s will be issued for clergy.&nbsp\;</span></span></span><br />\n<span style="language:en-US\;"><span style="font-family:calibri\;"><span style="font-size:12.0pt\;">The Ministerial Commission will be sharing more information on the speaker\, schedule\, and menus soon.&nbsp\;</span></span></span><br />\n<u><a href="https://chambermaster.blob.core.windows.net/userfiles/UserFiles/chambers/9233/File/Clergy-SpouseRetreat2021flyer_final.pdf">Click here for flyer</a>.</u><br />\n&nbsp\;</div>\n
LOCATION:Quality Inn (Same Location as last year\, name changed) 4742 Brecksville Road Richfield\, OH 44286 330-659-6151
UID:e.9233.1406
SEQUENCE:3
DTSTAMP:20260425T205348Z
URL:http://nodcb.memberzone.com/events/details/clergy-spouse-retreat-02-14-2021-1406
END:VEVENT

END:VCALENDAR
