BEGIN:VCALENDAR
VERSION:2.0
PRODID:-//ChamberMaster//Event Calendar 2.0//EN
METHOD:PUBLISH
X-PUBLISHED-TTL:P3D
REFRESH-INTERVAL:P3D
CALSCALE:GREGORIAN
BEGIN:VEVENT
DTSTART:20220220T210000Z
DTEND:20220222T170000Z
X-MICROSOFT-CDO-ALLDAYEVENT:FALSE
SUMMARY:Clergy-Spouse Retreat
DESCRIPTION:2022 Clergy-Spouse Retreat\nPlan on joining us for the upcoming Clergy-Spouse Retreat February 20-22 at the Quality Inn & Suites\, Richfield\, Ohio.  All ordained\, commissioned\, licensed clergy\, interims\, and spouses are invited.  This is a time to laugh\, time to learn\, time for worship\, quiet time\, social time\, and free time.  One day registration is available.\n\nThe Ministerial Commission will be sharing more information on the speaker\, schedule\, and menus soon.
X-ALT-DESC;FMTTYPE=text/html:<span style="font-size:18px\;">2022 Clergy-Spouse Retreat</span>\n<div><span style="language:en-US\;"><span style="font-family:calibri\;"><span style="font-size:12.0pt\;">Plan on joining us for the upcoming Clergy-Spouse Retreat February 20-22&nbsp\;at the Quality Inn &amp\; Suites\, Richfield\, Ohio. &nbsp\;All ordained\, commissioned\, licensed clergy\, interims\, and spouses are invited. &nbsp\;This is a time to laugh\, time to learn\,&nbsp\;time for worship\, quiet time\, social time\, and free time. &nbsp\;One day registration is available.</span></span></span><br />\n<span style="language:en-US\;"><span style="font-family:calibri\;"><span style="font-size:12.0pt\;">The Ministerial Commission will be sharing more information on the speaker\, schedule\, and menus soon.&nbsp\;</span></span></span><br />\n&nbsp\;</div>\n
LOCATION:Quality Inn & Suites 4742 Brecksville Road Richfield\, OH 44286 330-659-6151
UID:e.9233.1486
SEQUENCE:3
DTSTAMP:20260424T172932Z
URL:http://nodcb.memberzone.com/events/details/clergy-spouse-retreat-1486
END:VEVENT

END:VCALENDAR
