BEGIN:VCALENDAR
VERSION:2.0
PRODID:-//ChamberMaster//Event Calendar 2.0//EN
METHOD:PUBLISH
X-PUBLISHED-TTL:P3D
REFRESH-INTERVAL:P3D
CALSCALE:GREGORIAN
BEGIN:VEVENT
DTSTART:20220514T140000Z
DTEND:20220514T190000Z
X-MICROSOFT-CDO-ALLDAYEVENT:FALSE
SUMMARY:District Board Meeting
DESCRIPTION:District Board Meeting\n\nMay 14\, 2022\, 10:00am to 3:00pm
X-ALT-DESC;FMTTYPE=text/html:District Board Meeting<br />\nMay 14\, 2022\,&nbsp\;10:00am to 3:00pm
LOCATION:Maple Grove Church of the Brethren\, 960 Township Road 964\, Ashland\, OH 44805 419-289-9341
UID:e.9233.1485
SEQUENCE:3
DTSTAMP:20260424T130110Z
URL:http://nodcb.memberzone.com/events/details/district-board-meeting-1485
END:VEVENT

END:VCALENDAR
