BEGIN:VCALENDAR
VERSION:2.0
PRODID:-//ChamberMaster//Event Calendar 2.0//EN
METHOD:PUBLISH
X-PUBLISHED-TTL:P3D
REFRESH-INTERVAL:P3D
CALSCALE:GREGORIAN
BEGIN:VEVENT
DTSTART:20220813T223000Z
DTEND:20220813T233000Z
X-MICROSOFT-CDO-ALLDAYEVENT:FALSE
SUMMARY:District Board Reorganization Meeting
DESCRIPTION:District Board Reorganization Meeting\n\nMeeting at District Conference
X-ALT-DESC;FMTTYPE=text/html:District Board Reorganization Meeting<br />\nMeeting at District Conference
LOCATION:Poplar Ridge Church of the Brethren\, 6970 Domersville Road\, Defiance\, OH\, 43512
UID:e.9233.1628
SEQUENCE:3
DTSTAMP:20260424T070844Z
URL:http://nodcb.memberzone.com/events/details/district-board-reorganization-meeting-1628
END:VEVENT

END:VCALENDAR
