BEGIN:VCALENDAR
VERSION:2.0
PRODID:-//ChamberMaster//Event Calendar 2.0//EN
METHOD:PUBLISH
X-PUBLISHED-TTL:P3D
REFRESH-INTERVAL:P3D
CALSCALE:GREGORIAN
BEGIN:VEVENT
DTSTART:20201117T003000Z
DTEND:20201117T010000Z
X-MICROSOFT-CDO-ALLDAYEVENT:FALSE
SUMMARY:District Youth Games & Devotions
DESCRIPTION:Youth in 6-12th grade are invited to our weekly district game night! We'll play some games over Zoom as well as share a devotion. Contact Jenny for the Zoom link.
X-ALT-DESC;FMTTYPE=text/html:Youth in 6-12th grade are invited to our weekly district game night! We&#39\;ll play some games over Zoom as well as share a devotion. Contact Jenny for the Zoom link.
LOCATION:
UID:e.9233.1419
SEQUENCE:3
DTSTAMP:20260426T014956Z
URL:http://nodcb.memberzone.com/events/details/district-youth-games-devotions-11-16-2020-1419
END:VEVENT

END:VCALENDAR
