BEGIN:VCALENDAR
VERSION:2.0
PRODID:-//ChamberMaster//Event Calendar 2.0//EN
METHOD:PUBLISH
X-PUBLISHED-TTL:P3D
REFRESH-INTERVAL:P3D
CALSCALE:GREGORIAN
BEGIN:VEVENT
DTSTART:20210724T200000Z
DTEND:20210724T200000Z
X-MICROSOFT-CDO-ALLDAYEVENT:FALSE
SUMMARY:Eastern Area Youth Event - Roller Skating in Cortland
DESCRIPTION:Invite your friends and meet up with other district youth from the eastern side of Ohio! We will meet at 4p and skate until 6p\, and then go to dinner together afterwards. Cost is $10 per person (includes skate rental) + money for dinner. Contact Jenny Imhoff to RSVP and for more information like scholarships and carpooling!
X-ALT-DESC;FMTTYPE=text/html:Invite your friends and meet up with other district youth from the eastern side of Ohio! We will meet at 4p and skate until 6p\, and then go to dinner together afterwards. Cost is $10 per person (includes skate rental) + money for dinner. Contact Jenny Imhoff to RSVP and for more information like scholarships and carpooling!
LOCATION:Cortland Roller Rink 290 South High Street\, Cortland\, OH
UID:e.9233.1460
SEQUENCE:3
DTSTAMP:20260425T112054Z
URL:http://nodcb.memberzone.com/events/details/eastern-area-youth-event-roller-skating-in-cortland-1460
END:VEVENT

END:VCALENDAR
