BEGIN:VCALENDAR
VERSION:2.0
PRODID:-//ChamberMaster//Event Calendar 2.0//EN
METHOD:PUBLISH
X-PUBLISHED-TTL:P3D
REFRESH-INTERVAL:P3D
CALSCALE:GREGORIAN
BEGIN:VEVENT
DTSTART:20210413T210000Z
DTEND:20210414T000000Z
X-MICROSOFT-CDO-ALLDAYEVENT:FALSE
SUMMARY:Executive Committee Meeting
DESCRIPTION:Executive Committee Meeting
X-ALT-DESC;FMTTYPE=text/html:Executive Committee Meeting
LOCATION:District Office\, 1107 E. Main Street\, Ashland\, OH 44805 (419) 281-3058
UID:e.9233.1392
SEQUENCE:3
DTSTAMP:20260425T161220Z
URL:http://nodcb.memberzone.com/events/details/executive-committee-meeting-1392
END:VEVENT

END:VCALENDAR
