BEGIN:VCALENDAR
VERSION:2.0
PRODID:-//ChamberMaster//Event Calendar 2.0//EN
METHOD:PUBLISH
X-PUBLISHED-TTL:P3D
REFRESH-INTERVAL:P3D
CALSCALE:GREGORIAN
BEGIN:VEVENT
DTSTART:20260418T130000Z
DTEND:20260418T190000Z
X-MICROSOFT-CDO-ALLDAYEVENT:FALSE
SUMMARY:Day of Encouragement
DESCRIPTION:Day of Encouragement\n\nWho Will Benefit:\n\nThe workshop is designed for:\n\n\n	Pastors\, spouses and other church staff lay leaders\, all congregation members\n	Anyone interested in wanting to have encouragement\, standing with one another\, or bringing a life-giving presence to one another.   \n\n\n\nFLYER
X-ALT-DESC;FMTTYPE=text/html:<h2>Day of Encouragement</h2>\n\n<p><strong><em><span style="color:#482400\;"><span style="font-size:14.0pt\;">Who Will Benefit:</span></span></em></strong><br />\nThe workshop is designed for:</p>\n\n<ul>\n	<li style="margin-top:0in\;margin-right:7.9pt\;margin-bottom:0in\;margin-bottom:.0001pt\;text-align:justify\;"><span style="font-size:11.0pt\;">Pastors\, spouses&nbsp\;and other church staff lay leaders\, all congregation members</span></li>\n	<li style="margin-top:0in\;margin-right:7.8pt\;margin-bottom:0in\;margin-bottom:.0001pt\;text-align:justify\;"><span style="font-size:11.0pt\;">Anyone interested in wanting to have encouragement\, standing with one another\, or&nbsp\;bringing a life-giving presence to one another.&nbsp\; &nbsp\;</span></li>\n</ul>\n<br />\n<a href="https://chambermaster.blob.core.windows.net/userfiles/UserFiles/chambers/9233/File/MinisterialDayofEncouragmentflierfinal20262.pdf">FLYER</a>
LOCATION:Maple Grove Church of the Brethren\, 960 Township Road 964\, Ashland\, OH 44805
UID:e.9233.1724
SEQUENCE:3
DTSTAMP:20260419T202321Z
URL:http://nodcb.memberzone.com/events/details/ministerial-day-of-encouragement-1724
END:VEVENT

END:VCALENDAR
