BEGIN:VCALENDAR
VERSION:2.0
PRODID:-//ChamberMaster//Event Calendar 2.0//EN
METHOD:PUBLISH
X-PUBLISHED-TTL:P3D
REFRESH-INTERVAL:P3D
CALSCALE:GREGORIAN
BEGIN:VEVENT
DTSTART:20201112T150000Z
DTEND:20201112T163000Z
X-MICROSOFT-CDO-ALLDAYEVENT:FALSE
SUMMARY:Moderator's District Q&A
DESCRIPTION:Annual Conference Moderator's District Q&A\n\nAnyone in the Northern Ohio District is invited to join by Zoom for this "state of the church" question and answer session with our Annual Conference Officers.  Paul Mundey (Moderator)\, Dave Sollenberger (Moderator-elect)\, and Jim Beckwith (Secretary) will be available to answer any and all questions related to the Church of the Brethren in these challenging times.
X-ALT-DESC;FMTTYPE=text/html:Annual Conference Moderator&#39\;s District Q&amp\;A<br />\n<span style="color: rgb(34\, 34\, 34)\; font-family: Arial\, Helvetica\, sans-serif\; font-size: small\;">Anyone in the Northern Ohio District is invited to join by Zoom for this &quot\;state of the church&quot\; question and answer session with our Annual Conference Officers.&nbsp\; Paul Mundey (Moderator)\, Dave Sollenberger (Moderator-elect)\, and Jim Beckwith (Secretary) will be available to answer any and all questions related to the Church of the Brethren in these challenging times.&nbsp\; &nbsp\;</span>
LOCATION:Via Zoom Video Conference
UID:e.9233.1435
SEQUENCE:3
DTSTAMP:20260426T014812Z
URL:http://nodcb.memberzone.com/events/details/moderator-s-district-q-a-1435
END:VEVENT

END:VCALENDAR
