BEGIN:VCALENDAR
VERSION:2.0
PRODID:-//ChamberMaster//Event Calendar 2.0//EN
METHOD:PUBLISH
X-PUBLISHED-TTL:P3D
REFRESH-INTERVAL:P3D
CALSCALE:GREGORIAN
BEGIN:VEVENT
DTSTART;VALUE=DATE:20201004
DTEND;VALUE=DATE:20201006
TRANSP:TRANSPARENT
X-MICROSOFT-CDO-ALLDAYEVENT:TRUE
SUMMARY:Northern Ohio Brethren Disaster Ministry Project
DESCRIPTION:Northern Ohio District Brethren Disaster Ministry Project\n\nSee Northern Ohio District Volunteer Newsletter link for more information.
X-ALT-DESC;FMTTYPE=text/html:Northern Ohio District Brethren Disaster Ministry Project<br />\nSee Northern Ohio District Volunteer Newsletter link for more information.
LOCATION:Project in Lumberton\, North Carolina
UID:e.9233.1409
SEQUENCE:3
DTSTAMP:20260426T035220Z
URL:http://nodcb.memberzone.com/events/details/northern-ohio-brethren-disaster-ministry-project-1409
END:VEVENT

END:VCALENDAR
