BEGIN:VCALENDAR
VERSION:2.0
PRODID:-//ChamberMaster//Event Calendar 2.0//EN
METHOD:PUBLISH
X-PUBLISHED-TTL:P3D
REFRESH-INTERVAL:P3D
CALSCALE:GREGORIAN
BEGIN:VEVENT
DTSTART:20230811T150000Z
DTEND:20230813T000000Z
X-MICROSOFT-CDO-ALLDAYEVENT:FALSE
SUMMARY:Northern Ohio District Conference 2023
DESCRIPTION:District Conference 2023\n\n\n\nFriday\, August 11\, Maple Grove CoB\, Ashland\, OH\n\n\n\n11:00 a.m.  Exhibit  & Peace Auction Set-up \n\n12:00 p.m.  Registration Begins\n\n1:00 p.m.    Pre-Conference Workshop:  Fruit of Discipleship in Shifting Times\n\n5:00 p.m.    Dinner\n\n6:30 p.m.    Opening Worship\n\n8:00 p.m.    Ice Cream Social and Insight Sessions\n\n\n\nSaturday\, August 12\,Maple Grove CoB\, Ashland\, OH\n\n8:30 a.m.     Worship\n\n9:00 a.m. - 11:45 a.m.  Business Session\, Children's Activities\n\n12:00 p.m.   Lunch\n\n1:15 p.m.     Insight Sessions\n\n2:30 p.m.     Business Session Resumes\n\n4:00 p.m.     Worship & Installation of New Officers\n\n5:45 p.m.     Dinner\n\n6:30 p.m.     Closing
X-ALT-DESC;FMTTYPE=text/html:<strong><span style="font-size:24px\;">District Conference 2023</span></strong><br />\n<br />\n<span style="font-weight:bold\;"><span style="font-size:12pt\;">Friday\, August 11\, Maple Grove CoB\, Ashland\, OH</span></span><br />\n<br />\n<span style="font-size:11pt\;">11:00 a.m.</span>&nbsp\;&nbsp\;<span style="font-size:11pt\;">Exhibit&nbsp\; &amp\; Peace Auction Set-up </span><br />\n<span style="font-size:11pt\;">12:00 p.m.</span>&nbsp\;&nbsp\;<span style="font-size:11pt\;">Registration Begins</span><br />\n<span style="font-size:11pt\;">1:00 p.m.</span>&nbsp\;&nbsp\;&nbsp\;&nbsp\;<span style="font-size:11pt\;">Pre-Conference Workshop:&nbsp\;&nbsp\;</span><span style="color: rgb(51\, 51\, 51)\; font-family: sans-serif\, Arial\, Verdana\, &quot\;Trebuchet MS&quot\;\; font-size: 14.6667px\; background-color: rgb(255\, 255\, 255)\;">Fruit of Discipleship in Shifting Times</span><br />\n<span style="font-size:11pt\;">5:00 p.m.</span>&nbsp\;&nbsp\;&nbsp\;&nbsp\;<span style="font-size:11pt\;">Dinner</span><br />\n<span style="font-size:11pt\;">6:30 p.m.</span>&nbsp\; &nbsp\; <span style="font-size:11pt\;">Opening Worship</span><br />\n<span style="font-size:11pt\;">8:00 p.m.</span>&nbsp\;&nbsp\;&nbsp\;&nbsp\;<span style="font-size:11pt\;">Ice Cream Social and Insight Sessions</span><br />\n<br />\n<span style="font-weight:bold\;"><span style="font-size:12pt\;">Saturday\, August 12\,Maple Grove CoB\, Ashland\, OH</span></span><br />\n<span style="font-size:11pt\;">8:30 a.m. </span>&nbsp\;&nbsp\;&nbsp\;&nbsp\;<span style="font-size:11pt\;">Worship<br />\n9:00 a.m. - 11:45 a.m.&nbsp\; Business Session\, Children&rsquo\;s Activities</span><br />\n<span style="font-size:11pt\;">12:00 p.m. </span>&nbsp\;&nbsp\;<span style="font-size:11pt\;">Lunch</span><br />\n<span style="font-size:11pt\;">1:15 p.m. </span>&nbsp\; &nbsp\;&nbsp\;<span style="font-size:11pt\;">Insight Sessions</span><br />\n<span style="font-size:11pt\;">2:30 p.m. </span>&nbsp\;&nbsp\;&nbsp\;&nbsp\;<span style="font-size:11pt\;">Business Session Resumes</span><br />\n<span style="font-size:11pt\;">4:00 p.m. </span>&nbsp\; &nbsp\;&nbsp\;<span style="color: rgb(51\, 51\, 51)\; font-family: sans-serif\, Arial\, Verdana\, &quot\;Trebuchet MS&quot\;\; font-size: 14.6667px\; background-color: rgb(255\, 255\, 255)\;">Worship &amp\; Installation of New Officers</span><br />\n<span style="font-size:11pt\;">5:45 p.m. </span>&nbsp\;&nbsp\;&nbsp\;&nbsp\;<span style="font-size:11pt\;">Dinner</span><br />\n<span style="font-size:11pt\;">6:30 p.m. </span>&nbsp\; &nbsp\; Closing<br />\n<br />\n&nbsp\;
LOCATION:Maple Grove CoB 960 Township Road 964 RR3\, Ashland\, OH 44805
UID:e.9233.1656
SEQUENCE:3
DTSTAMP:20260423T064738Z
URL:http://nodcb.memberzone.com/events/details/northern-ohio-district-conference-2023-1656
END:VEVENT

END:VCALENDAR
