BEGIN:VCALENDAR
VERSION:2.0
PRODID:-//ChamberMaster//Event Calendar 2.0//EN
METHOD:PUBLISH
X-PUBLISHED-TTL:P3D
REFRESH-INTERVAL:P3D
CALSCALE:GREGORIAN
BEGIN:VEVENT
DTSTART:20240809T170000Z
DTEND:20240810T230000Z
X-MICROSOFT-CDO-ALLDAYEVENT:FALSE
SUMMARY:Northern Ohio District Conference 2024
DESCRIPTION:District Conference 2024\n\n\n\nFriday\, August 9\, 2024\n\n\n\n11:00 a.m.  Exhibit  & Peace Auction Set-up \n\n12:00 p.m.  Registration Begins\n\n1:00 p.m.    Pre-Conference Workshop:  "For My Neighbor's Good" a Brethren Evangelism Training Event\n\n5:00 p.m.    Dinner\n\n6:30 p.m.    Opening Worship\, Moderator Tina Hunt preaching\n\n8:00 p.m.    Insight Session and Ice Cream \n\n\n\nSaturday\, August 10\, 2024\n\n8:30 a.m.    Worship\n\n9:00 a.m. - 11:45 a.m.  Business Session\, Children's Activities\n\n12:00 p.m.  Lunch\n\n1:15 p.m.    Insight Sessions\n\n2:30 p.m.    Business Session Resumes\n\n4:00 p.m.    Worship Service\, Guest Speaker Nate Polzin preaching\n\n                   Installation of New Officers\n\n5:30 p.m.    Dinner\n\n5:30 p.m.    Reorganization of the Board\n\n\n\nYouth registration begins at 4 pm on August 9th.\n\nSilent Peace Auction begins at 1 pm August 9th and finishes at the beginning of worship on August 10th.
X-ALT-DESC;FMTTYPE=text/html:<strong><span style="font-size:24px\;">District Conference 2024</span></strong><br />\n<br />\n<span style="font-weight:bold\;"><span style="font-size:12pt\;">Friday\, August 9\, 2024</span></span><br />\n<br />\n<span style="font-size:11pt\;">11:00 a.m.</span>&nbsp\;&nbsp\;<span style="font-size:11pt\;">Exhibit&nbsp\; &amp\; Peace Auction Set-up </span><br />\n<span style="font-size:11pt\;">12:00 p.m.</span>&nbsp\;&nbsp\;<span style="font-size:11pt\;">Registration Begins</span><br />\n<span style="font-size:11pt\;">1:00 p.m.</span>&nbsp\;&nbsp\;&nbsp\;&nbsp\;<span style="font-size:11pt\;">Pre-Conference Workshop:&nbsp\; &quot\;For My Neighbor&#39\;s Good&quot\; a Brethren Evangelism Training Event</span><br />\n<span style="font-size:11pt\;">5:00 p.m.</span>&nbsp\;&nbsp\;&nbsp\;&nbsp\;<span style="font-size:11pt\;">Dinner</span><br />\n<span style="font-size:11pt\;">6:30 p.m.</span>&nbsp\; &nbsp\; <span style="font-size:11pt\;">Opening Worship\, Moderator Tina Hunt preaching</span><br />\n<span style="font-size:11pt\;">8:00 p.m.</span>&nbsp\; &nbsp\; <span style="font-size:11pt\;">Insight Session and Ice Cream&nbsp\;</span><br />\n<br />\n<span style="font-weight:bold\;"><span style="font-size:12pt\;">Saturday\, August 10\, 2024</span></span><br />\n<span style="font-size:11pt\;">8:30 a.m. </span>&nbsp\;&nbsp\;&nbsp\;<span style="font-size:11pt\;">Worship<br />\n9:00 a.m. - 11:45 a.m.&nbsp\; Business Session\, Children&rsquo\;s Activities</span><br />\n<span style="font-size:11pt\;">12:00 p.m. </span>&nbsp\;<span style="font-size:11pt\;">Lunch</span><br />\n<span style="font-size:11pt\;">1:15 p.m. </span>&nbsp\; &nbsp\;<span style="font-size:11pt\;">Insight Sessions</span><br />\n<span style="font-size:11pt\;">2:30 p.m. </span>&nbsp\;&nbsp\;&nbsp\;<span style="font-size:11pt\;">Business Session Resumes</span><br />\n<span style="font-size:11pt\;">4:00 p.m. </span>&nbsp\; &nbsp\;<span style="font-size: 14.6667px\;">Worship Service\, Guest Speaker Nate Polzin preaching<br />\n&nbsp\; &nbsp\; &nbsp\; &nbsp\; &nbsp\; &nbsp\; &nbsp\; &nbsp\; &nbsp\; &nbsp\;</span><span style="font-size: 14.6667px\;">Installation of New Officers</span><br />\n<span style="font-size:11pt\;">5:30 p.m. </span>&nbsp\;&nbsp\;&nbsp\;<span style="font-size:11pt\;">Dinner</span><br />\n<span style="font-size:11pt\;">5:30 p.m.&nbsp\; &nbsp\; Reorganization of the Board<br />\n<br />\nYouth registration begins at 4 pm on August 9th.<br />\nSilent Peace Auction begins at 1 pm August 9th and finishes at the beginning of worship on August 10th.</span>&nbsp\;&nbsp\;
LOCATION:Hartville Church of the Brethren
UID:e.9233.1675
SEQUENCE:3
DTSTAMP:20260422T094812Z
URL:http://nodcb.memberzone.com/events/details/northern-ohio-district-conference-2024-1675
END:VEVENT

END:VCALENDAR
