BEGIN:VCALENDAR
VERSION:2.0
PRODID:-//ChamberMaster//Event Calendar 2.0//EN
METHOD:PUBLISH
X-PUBLISHED-TTL:P3D
REFRESH-INTERVAL:P3D
CALSCALE:GREGORIAN
BEGIN:VEVENT
DTSTART:20201117T140000Z
DTEND:20201117T160000Z
X-MICROSOFT-CDO-ALLDAYEVENT:FALSE
SUMMARY:Pastor's Workshop
DESCRIPTION:"Caring for yourself and others as the COVID-19 pandemic continues" Pastor's Workshop November 17th 9am   11 am or 6:30 pm   8:30 pm As pastors\, you have put much on hold to help your congregation through these unusual times. But the ongoing pandemic requires being intentional about self-care in order to care for others in a healthy way. Kyle Kershner LPCC-S NCC LICDC-CS will provide insight and practical application on November 17th . You are invited to join workshop from 9am   11 am or 6:30 pm   8:30 pm. Kyle will be presenting live at each session by Zoom. (You may remember Kyle Kerschner from the Pre-conference workshop he provided at District Conference at Hartville CoB on Addictions). 0.2 CEU's will be provided.
X-ALT-DESC;FMTTYPE=text/html:&ldquo\;Caring for yourself and others as the COVID-19 pandemic continues&rdquo\; Pastor&rsquo\;s Workshop November 17th 9am &ndash\; 11 am or 6:30 pm &ndash\; 8:30 pm As pastors\, you have put much on hold to help your congregation through these unusual times. But the ongoing pandemic requires being intentional about self-care in order to care for others in a healthy way. Kyle Kershner LPCC-S NCC LICDC-CS will provide insight and practical application on November 17th . You are invited to join workshop from 9am &ndash\; 11 am or 6:30 pm &ndash\; 8:30 pm. Kyle will be presenting live at each session by Zoom. (You may remember Kyle Kerschner from the Pre-conference workshop he provided at District Conference at Hartville CoB on Addictions). 0.2 CEU&rsquo\;s will be provided.&nbsp\;&nbsp\;
LOCATION:Via Zoom Video Conference
UID:e.9233.1433
SEQUENCE:3
DTSTAMP:20260426T033203Z
URL:http://nodcb.memberzone.com/events/details/pastor-s-workshop-1433
END:VEVENT

END:VCALENDAR
