BEGIN:VCALENDAR
VERSION:2.0
PRODID:-//ChamberMaster//Event Calendar 2.0//EN
METHOD:PUBLISH
X-PUBLISHED-TTL:P3D
REFRESH-INTERVAL:P3D
CALSCALE:GREGORIAN
BEGIN:VEVENT
DTSTART:20210527T140000Z
DTEND:20210527T190000Z
X-MICROSOFT-CDO-ALLDAYEVENT:FALSE
SUMMARY:Pastor's Workshop
DESCRIPTION:Pastors' Workshops May 25th and May 27th\n\n\n\nTom Zuercher will be the featured speaker at our Pastors' Workshops this May.  He will be presenting on the topic originally planned for the Pre-Conference Workshop:  "Things I've learned\, mistakes I've made\, advice I'm willing to give."\n\n\n\nThere are two opportunities to attend:\n\nTuesday\, May 25th from 6:30-8:30 pm at the District Office.  There will also be opportunity to join this session via Zoom.  0.2 CEU's will be provided.\n\n\n\nThursday\, May 27th from 10 am   3:00 pm at Mohican Church of the Brethren.  Tom will present for the morning session.  The afternoon will be an open forum guided by the morning session and open to topics of your choosing.  Lunch will be provided.  0.4 CEU's will be provided (0.2 for the morning presentation\; 0.2 for the afternoon)
X-ALT-DESC;FMTTYPE=text/html:<h2>Pastors&rsquo\; Workshops May 25th and May 27th<br />\n<br />\nTom Zuercher will be the featured speaker at our Pastors&rsquo\; Workshops this May.&nbsp\; He will be presenting on the topic originally planned for the Pre-Conference Workshop:&nbsp\; &ldquo\;Things I&rsquo\;ve learned\, mistakes I&rsquo\;ve made\, advice I&rsquo\;m willing to give.&rdquo\;<br />\n<br />\nThere are two opportunities to attend:<br />\nTuesday\, May 25th from 6:30-8:30 pm at the District Office.&nbsp\; There will also be opportunity to join this session via Zoom.&nbsp\; 0.2 CEU&rsquo\;s will be provided.<br />\n<br />\nThursday\, May 27th from 10 am &ndash\; 3:00 pm at Mohican Church of the Brethren.&nbsp\; Tom will present for the morning session.&nbsp\; The afternoon will be an open forum guided by the morning session and open to topics of your choosing.&nbsp\; Lunch will be provided.&nbsp\; 0.4 CEU&rsquo\;s will be provided (0.2 for the morning presentation\; 0.2 for the afternoon)&nbsp\;<br />\n<span style="font-size:16px\;"><span style="font-family:tahoma\;">&nbsp\;</span></span></h2>\n\n<h3>&nbsp\;</h3>\n
LOCATION:Mohican Church of the Brethren\, 7759 North Elyria Road\, West Salem\, Ohio 44287
UID:e.9233.1458
SEQUENCE:3
DTSTAMP:20260425T142712Z
URL:http://nodcb.memberzone.com/events/details/pastor-s-workshop-1458
END:VEVENT

END:VCALENDAR
