BEGIN:VCALENDAR
VERSION:2.0
PRODID:-//ChamberMaster//Event Calendar 2.0//EN
METHOD:PUBLISH
X-PUBLISHED-TTL:P3D
REFRESH-INTERVAL:P3D
CALSCALE:GREGORIAN
BEGIN:VEVENT
DTSTART:20210922T140000Z
DTEND:20210922T200000Z
X-MICROSOFT-CDO-ALLDAYEVENT:FALSE
SUMMARY:Postponed-Fall Pastors' Workshop
DESCRIPTION:CONSTRUCTION ZONE: A NEW TESTAMENT CHURCH IN THE 21st CENTURY\n\n\n\nThis workshop for pastors and church leaders directs our attention to the practices and teachings of the New Testament on which the Church is built\, and which the Church of the Brethren embraces. With the challenges of these times\, come for Bible study\, discussion and discernment for how New Testament teachings still give a vital vision for the 21st century. We will examine the following selected topics:\n\n-A Matter of Death and Life: Baptism\, Uniting with Christ and His Body\n\n-Let's Dine In: The Love Feast\, Feetwashing\, Communion\n\n-Who Ya Gonna Call?: Anointing\, Faith and Wellness\n\n-No Way to Treat an Enemy: Jesus' Command and Example to Love Enemies\n\n-Who Wants to Be a Millionaire (Anyway)?: Simple Living in the Age of Billionaires and Unemployment\n\n\n\nJoin us to study and discuss ways that biblical teachings ground the Church as we face current  challenges and opportunities with joyful faith for the 21st century.\n\n\n\nLunch and refreshments will be provided by Ashland Dickey Church of the Brethren. 0.5 CEU's will be provided.
X-ALT-DESC;FMTTYPE=text/html:CONSTRUCTION ZONE: A NEW TESTAMENT CHURCH IN THE 21st CENTURY<br />\n<br />\nThis workshop for pastors and church leaders directs our attention to the practices and teachings of the New Testament on which the Church is built\, and which the Church of the Brethren embraces. With the challenges of these times\, come for Bible study\, discussion and discernment for how New Testament teachings still give a vital vision for the 21st century. We will examine the following selected topics:<br />\n-A Matter of Death and Life: Baptism\, Uniting with Christ and His Body<br />\n-Let&rsquo\;s Dine In: The Love Feast\, Feetwashing\, Communion<br />\n-Who Ya Gonna Call?: Anointing\, Faith and Wellness<br />\n-No Way to Treat an Enemy: Jesus&rsquo\; Command and Example to Love Enemies<br />\n-Who Wants to Be a Millionaire (Anyway)?: Simple Living in the Age of Billionaires and Unemployment<br />\n<br />\nJoin us to study and discuss ways that biblical teachings ground the Church as we face current&nbsp\; challenges and opportunities with joyful faith for the 21st century.<br />\n<br />\nLunch and refreshments will be provided by Ashland Dickey Church of the Brethren. 0.5 CEU&#39\;s will be provided.&nbsp\;
LOCATION:Ashland Dickey Church of the Brethren\, 1509 Township Road 655\, Ashland\, Ohio
UID:e.9233.1467
SEQUENCE:3
DTSTAMP:20260425T023340Z
URL:http://nodcb.memberzone.com/events/details/postponed-fall-pastors-workshop-1467
END:VEVENT

END:VCALENDAR
