BEGIN:VCALENDAR
VERSION:2.0
PRODID:-//ChamberMaster//Event Calendar 2.0//EN
METHOD:PUBLISH
X-PUBLISHED-TTL:P3D
REFRESH-INTERVAL:P3D
CALSCALE:GREGORIAN
BEGIN:VEVENT
DTSTART:20201114T000000Z
DTEND:20201115T010000Z
X-MICROSOFT-CDO-ALLDAYEVENT:FALSE
SUMMARY:Powerhouse regional youth conference
DESCRIPTION:Senior High students are welcome to join us for our regional youth conference\, Powerhouse! This virtual event is hosted by Manchester University and brings together youth and advisors from the Midwest region.\n\n\n\nVisit manchester.edu/powerhouse to register.\n\n\n\nTheme: Do not let them be afraid! John 14:27\n\n\n\nSchedule:\n\nFriday\, 11/13 - Virtual Campfire @ 7-8pm\n\nSaturday\, 11/14 - Online Games @ 2-3pm\n\nSaturday 11/14 - Virtual Worship @ 7-8pm
X-ALT-DESC;FMTTYPE=text/html:Senior High students are welcome to join us for our regional youth conference\, Powerhouse! This virtual event is hosted by Manchester University and brings together youth and advisors from the Midwest region.<br />\n<br />\nVisit manchester.edu/powerhouse to register.<br />\n<br />\nTheme: Do not let them be afraid! John 14:27<br />\n<br />\nSchedule:<br />\nFriday\, 11/13 - Virtual Campfire @ 7-8pm<br />\nSaturday\, 11/14 - Online Games @ 2-3pm<br />\nSaturday 11/14 - Virtual Worship @ 7-8pm
LOCATION:Zoom
UID:e.9233.1437
SEQUENCE:3
DTSTAMP:20260426T015119Z
URL:http://nodcb.memberzone.com/events/details/powerhouse-regional-youth-conference-1437
END:VEVENT

END:VCALENDAR
