BEGIN:VCALENDAR
VERSION:2.0
PRODID:-//ChamberMaster//Event Calendar 2.0//EN
METHOD:PUBLISH
X-PUBLISHED-TTL:P3D
REFRESH-INTERVAL:P3D
CALSCALE:GREGORIAN
BEGIN:VEVENT
DTSTART:20211023T140000Z
DTEND:20211023T190000Z
X-MICROSOFT-CDO-ALLDAYEVENT:FALSE
SUMMARY:SISTERS' Fall Retreat
DESCRIPTION:SISTERS' Fall Retreat\, Guest Speaker:  Debbie Eisenbise\, Ordained Minister\, Church of the Brethren\n\nJoin us for a day to connect with other SISTERS in Christ in the beautiful setting of Inspiration Hills.  Get rejuvenated\, be inspired by storyteller\, Debbie Eisenbise\, enjoy music and fun activities\, games\, crafts\, walks through the camp\, prayer and relaxation.  Lunch and refreshments will be provided.  We look forward to seeing you there!\n\n\n\nClick here for flyer.
X-ALT-DESC;FMTTYPE=text/html:SISTERS&#39\; Fall Retreat\, Guest Speaker:&nbsp\; Debbie Eisenbise\, Ordained Minister\, Church of the Brethren<br />\nJoin us for a day to connect&nbsp\;with other SISTERS in Christ&nbsp\;in the beautiful setting of&nbsp\;Inspiration Hills.&nbsp\; Get rejuvenated\, be inspired by storyteller\, Debbie Eisenbise\, enjoy music and fun activities\, games\, crafts\, walks through the camp\, prayer and relaxation.&nbsp\; Lunch and refreshments will be provided.&nbsp\; We look forward to seeing you there!<br />\n<br />\n<a href="https://chambermaster.blob.core.windows.net/userfiles/UserFiles/chambers/9233/File/Fall2021flyerFull.pdf">Click here for flyer.</a>
LOCATION:Inspiration Hills\, 4819 West Easton Road\, Burbank\, OH 44214
UID:e.9233.1477
SEQUENCE:3
DTSTAMP:20260425T004053Z
URL:http://nodcb.memberzone.com/events/details/sisters-fall-retreat-1477
END:VEVENT

END:VCALENDAR
