BEGIN:VCALENDAR
VERSION:2.0
PRODID:-//ChamberMaster//Event Calendar 2.0//EN
METHOD:PUBLISH
X-PUBLISHED-TTL:P3D
REFRESH-INTERVAL:P3D
CALSCALE:GREGORIAN
BEGIN:VEVENT
DTSTART:20221021T220000Z
DTEND:20221022T190000Z
X-MICROSOFT-CDO-ALLDAYEVENT:FALSE
SUMMARY:SISTERS' Fall Retreat 2022
DESCRIPTION:SISTERS' Fall Retreat\, Inspiration Hills\, Burbank\, Ohio\n\nOct. 21/22\, 2022 Friday 7 pm through Saturday 3 pm\n\n\n\nJoin us for a day to connect with other SISTERS in Christ in the beautiful setting of Inspiration Hills.  Get rejuvenated\, be inspired\, enjoy music and fun activities\, games\, crafts\, walks through the camp\, prayer and relaxation.  Dinner\, breakfast\, lunch and refreshments will be provided.  We look forward to seeing you there!\n\n"Living In Harmony" Romans 12\, Speaker:  Beth Sollenberger\n\nPastor and Retired Church of the Brethren Staff and District Executive of Indiana & Michigan\n\n\n\nClick here for flyer.
X-ALT-DESC;FMTTYPE=text/html:<span style="font-size:12px\;"><span style="font-family:comic sans ms\;">SISTERS&#39\; Fall Retreat\,&nbsp\;Inspiration Hills\, Burbank\, Ohio<br />\nOct. 21/22\, 2022&nbsp\;Friday 7 pm through Saturday 3 pm</span></span><br />\n<br />\n<span style="font-size:12px\;"><span style="font-family:comic sans ms\;">Join us for a day to connect&nbsp\;with other SISTERS in Christ&nbsp\;in the beautiful setting of&nbsp\;Inspiration Hills.&nbsp\; Get rejuvenated\, be inspired\, enjoy music and fun activities\, games\, crafts\, walks through the camp\, prayer and relaxation.&nbsp\; Dinner\, breakfast\, lunch and refreshments will be provided.&nbsp\; We look forward to seeing you there!<br />\n&ldquo\;Living In Harmony&rdquo\; Romans 12\,&nbsp\;Speaker:&nbsp\; Beth Sollenberger<br />\nPastor and Retired Church of the Brethren Staff&nbsp\;and District Executive of Indiana &amp\; Michigan</span></span><br />\n<br />\n<a href="https://chambermaster.blob.core.windows.net/userfiles/UserFiles/chambers/9233/File/SISTERS/FallRetreat2022Ad.jpg">Click here for flyer.</a>
LOCATION:Inspiration Hills\, 4819 West Easton Road\, Burbank\, OH 44214
UID:e.9233.1639
SEQUENCE:3
DTSTAMP:20260424T030255Z
URL:http://nodcb.memberzone.com/events/details/sisters-fall-retreat-2022-1639
END:VEVENT

END:VCALENDAR
