BEGIN:VCALENDAR
VERSION:2.0
PRODID:-//ChamberMaster//Event Calendar 2.0//EN
METHOD:PUBLISH
X-PUBLISHED-TTL:P3D
REFRESH-INTERVAL:P3D
CALSCALE:GREGORIAN
BEGIN:VEVENT
DTSTART:20220331T140000Z
DTEND:20220331T200000Z
X-MICROSOFT-CDO-ALLDAYEVENT:FALSE
SUMMARY:Spring Pastors' Workshop
DESCRIPTION:Spring Pastors' Workshop\n\nConstruction Zone: A New Testament Church in the 21st Century\n\nPresenter: Jeff Bach\n\nMarch 31\, 2022 / 10:00 A.M. to 4:00 P.M.\n\nAshland Dickey Church of the Brethren\n\n0.5 CEU's / Lunch Provided Fellowship beginning at 9:30 A.M.\n\n\n\nPlease register at nohcob.org/workshop or email julie@nohcob.org so we have a meal count for the host church.\n\nThis workshop for pastors directs our attention to the practices and teachings of the New Testament on which the Church is built\, and which the Church of the Brethren embraces. With the challenges of these times\, come for Bible study\, discussion and discernment for how New Testament teachings still give a vital vision for the 21st century. We will examine the following selected topics:\n\n	A Matter of Death and Life: Baptism\, Uniting with Christ and His Body   \n	Let's Dine In: The Love Feast\, Feetwashing\, Communion\n	Who Ya Gonna Call?: Anointing\, Faith and Wellness  \n	No Way to Treat an Enemy: Jesus' Command and Example to Love Enemies\n	Who Wants to Be a Millionaire (Anyway)?: Simple Living in the Age of Billionaires and Unemployment\n\n\n\nJoin us to study and discuss ways that biblical teachings ground the Church as we face current challenges and opportunities with joyful faith for the 21st century.\n\n\n\nJeff Bach is director of the Young Center for Anabaptist and Pietist Studies at Elizabethtown College and teaches in the Department of Religious Studies. He taught courses related to Brethren heritage for thirteen years at Bethany Theological Seminary in Richmond\, Indiana. He earned his Ph.D. in religion from Duke University in 1997\, concentrating on the history of Anabaptist and Pietist groups.
X-ALT-DESC;FMTTYPE=text/html:<strong><span style="font-size:18px\;"><span style="color:#7D493C\;"><span style="font-family:arial\;">Spring Pastors&#39\; Workshop</span></span></span></strong><br />\n<span style="font-size:14px\;"><span style="font-weight:bold\;language:en-US\;"><span style="color:#7D493C\;"><span style="font-family:arial\;">Construction Zone: A New Testament Church in the 21st Century</span></span></span><br />\n<span style="font-weight:bold\;language:en-US\;"><span style="color:#7D493C\;"><span style="font-family:arial\;">Presenter: Jeff Bach</span></span></span><br />\n<span style="font-weight:bold\;language:en-US\;"><span style="color:#7D493C\;"><span style="font-family:arial\;">March 31\, 2022 / 10:00 A.M. to 4:00 P.M.<br />\nAshland Dickey Church of the Brethren</span></span></span></span><br />\n<span style="font-weight:bold\;language:en-US\;"><span style="color:#7D493C\;"><span style="font-family:calibri\;"><span style="font-size:11.0pt\;">0.5 CEU&#39\;s / Lunch Provided Fellowship beginning at 9:30 A.M.</span></span></span></span><br />\n<br />\n<span style="language:en-US\;"><span style="font-family:calibri\;"><span style="font-size:11.0pt\;">Please register at nohcob.org/workshop or email julie@nohcob.org so we have a meal count for the host church.</span></span></span><br />\n<span style="language:en-US\;"><span style="font-family:calibri\;"><span style="font-size:11.0pt\;">This workshop for pastors directs our attention to the practices and teachings of the New Testament on which the Church is built\, and which the Church of the Brethren embraces. With the challenges of these times\, come for Bible study\, discussion and discernment for how New Testament teachings still give a vital vision for the 21st century. We will examine the following selected topics:</span></span></span>\n<ul>\n	<li><span style="language:en-US\;"><span style="font-family:calibri\;"><span style="font-size:11.0pt\;">A Matter of Death and Life: Baptism\, Uniting with Christ and His Body&nbsp\;&nbsp\; </span></span></span></li>\n	<li><span style="language:en-US\;"><span style="font-family:calibri\;"><span style="font-size:11.0pt\;">Let&rsquo\;s Dine In: The Love Feast\, Feetwashing\, Communion</span></span></span></li>\n	<li><span style="language:en-US\;"><span style="font-family:calibri\;"><span style="font-size:11.0pt\;">Who Ya Gonna Call?: Anointing\, Faith and Wellness&nbsp\;&nbsp\;</span></span></span></li>\n	<li><span style="language:en-US\;"><span style="font-family:calibri\;"><span style="font-size:11.0pt\;">No Way to Treat an Enemy: Jesus&rsquo\; Command and Example to Love Enemies</span></span></span></li>\n	<li><span style="language:en-US\;"><span style="font-family:calibri\;"><span style="font-size:11.0pt\;">Who Wants to Be a Millionaire (Anyway)?: Simple Living in the Age of Billionaires and Unemployment</span></span></span></li>\n</ul>\n<br />\n<span style="language:en-US\;"><span style="font-family:calibri\;"><span style="font-size:11.0pt\;">Join us to study and discuss ways that biblical teachings ground the Church as we face current challenges and opportunities with joyful faith for the 21st century.</span></span></span><br />\n<br />\n<span style="language:en-US\;"><span style="font-family:calibri\;"><span style="font-size:11.0pt\;">Jeff Bach is director of the Young Center for Anabaptist and Pietist Studies at Elizabethtown College and teaches in the Department of Religious Studies. He taught courses related to Brethren heritage for thirteen years at Bethany Theological Seminary in Richmond\, Indiana. He earned his Ph.D. in religion from Duke University in 1997\, concentrating on the history of Anabaptist and Pietist groups. </span></span></span><br />\n&nbsp\;
LOCATION:Ashland Dickey Church of the Brethren 509 Township Road 655 Ashland\, OH 44805 419-281-7951
UID:e.9233.1488
SEQUENCE:3
DTSTAMP:20260424T155829Z
URL:http://nodcb.memberzone.com/events/details/spring-pastors-workshop-1488
END:VEVENT

END:VCALENDAR
