BEGIN:VCALENDAR
VERSION:2.0
PRODID:-//ChamberMaster//Event Calendar 2.0//EN
METHOD:PUBLISH
X-PUBLISHED-TTL:P3D
REFRESH-INTERVAL:P3D
CALSCALE:GREGORIAN
BEGIN:VEVENT
DTSTART:20210123T000000Z
DTEND:20210123T193000Z
X-MICROSOFT-CDO-ALLDAYEVENT:FALSE
SUMMARY:Virtual Junior High Rally
DESCRIPTION:Join us for a Virtual Jr. High Rally! We will have three sessions over Zoom with plenty of opportunities to hang out with new & old friends\, play games\, sing worship songs\, participate in a service project\, and learn about God!
X-ALT-DESC;FMTTYPE=text/html:Join us for a Virtual Jr. High Rally! We will have three sessions over Zoom with plenty of opportunities to hang out with new &amp\; old friends\, play games\, sing worship songs\, participate in a service project\, and learn about God!
LOCATION:Virtual - Zoom links will be emailed a few days before the event.
UID:e.9233.1447
SEQUENCE:3
DTSTAMP:20260426T014812Z
URL:http://nodcb.memberzone.com/events/details/virtual-junior-high-rally-1447
END:VEVENT

END:VCALENDAR
