BEGIN:VCALENDAR
VERSION:2.0
PRODID:-//ChamberMaster//Event Calendar 2.0//EN
METHOD:PUBLISH
X-PUBLISHED-TTL:P3D
REFRESH-INTERVAL:P3D
CALSCALE:GREGORIAN
BEGIN:VEVENT
DTSTART:20210129T003000Z
DTEND:20210129T020000Z
X-MICROSOFT-CDO-ALLDAYEVENT:FALSE
SUMMARY:Young Adult Zoom Night
DESCRIPTION:Come hang out with other young adults in the Northern Ohio District on Zoom! We'll meet on the last Thursday of the month and play some games.
X-ALT-DESC;FMTTYPE=text/html:Come hang out with other young adults in the Northern Ohio District on Zoom! We&#39\;ll meet on the last Thursday of the month and play some games.
LOCATION:Zoom
UID:e.9233.1448
SEQUENCE:3
DTSTAMP:20260425T221732Z
URL:http://nodcb.memberzone.com/events/details/young-adult-zoom-night-1448
END:VEVENT

END:VCALENDAR
