BEGIN:VCALENDAR
VERSION:2.0
PRODID:-//ChamberMaster//Event Calendar 2.0//EN
METHOD:PUBLISH
X-PUBLISHED-TTL:P3D
REFRESH-INTERVAL:P3D
CALSCALE:GREGORIAN
BEGIN:VEVENT
DTSTART:20230421T230000Z
DTEND:20230422T183000Z
X-MICROSOFT-CDO-ALLDAYEVENT:FALSE
SUMMARY:Youth Spring Rally
DESCRIPTION:Jr. & Sr. High Spring Rally\, "A Chosen Generation" 1 Peter 2:9-10
X-ALT-DESC;FMTTYPE=text/html:Jr. &amp\; Sr. High Spring Rally\,&nbsp\;&quot\;A Chosen Generation&quot\; 1 Peter 2:9-10
LOCATION:Camp Inspiration Hills
UID:e.9233.1651
SEQUENCE:3
DTSTAMP:20260423T194311Z
URL:http://nodcb.memberzone.com/events/details/youth-spring-rally-1651
END:VEVENT

END:VCALENDAR
